BEGIN:VCALENDAR
VERSION:2.0
PRODID:-//All Nations Church of God by Faith, EPC | Watch, Pray, Love One Another, Live Holy Everyday - ECPv6.15.16.1//NONSGML v1.0//EN
CALSCALE:GREGORIAN
METHOD:PUBLISH
X-WR-CALNAME:All Nations Church of God by Faith, EPC | Watch, Pray, Love One Another, Live Holy Everyday
X-ORIGINAL-URL:https://allnationschurchepc.org
X-WR-CALDESC:Events for All Nations Church of God by Faith, EPC | Watch, Pray, Love One Another, Live Holy Everyday
REFRESH-INTERVAL;VALUE=DURATION:PT1H
X-Robots-Tag:noindex
X-PUBLISHED-TTL:PT1H
BEGIN:VTIMEZONE
TZID:America/New_York
BEGIN:DAYLIGHT
TZOFFSETFROM:-0500
TZOFFSETTO:-0400
TZNAME:EDT
DTSTART:20250309T070000
END:DAYLIGHT
BEGIN:STANDARD
TZOFFSETFROM:-0400
TZOFFSETTO:-0500
TZNAME:EST
DTSTART:20251102T060000
END:STANDARD
BEGIN:DAYLIGHT
TZOFFSETFROM:-0500
TZOFFSETTO:-0400
TZNAME:EDT
DTSTART:20260308T070000
END:DAYLIGHT
BEGIN:STANDARD
TZOFFSETFROM:-0400
TZOFFSETTO:-0500
TZNAME:EST
DTSTART:20261101T060000
END:STANDARD
BEGIN:DAYLIGHT
TZOFFSETFROM:-0500
TZOFFSETTO:-0400
TZNAME:EDT
DTSTART:20270314T070000
END:DAYLIGHT
BEGIN:STANDARD
TZOFFSETFROM:-0400
TZOFFSETTO:-0500
TZNAME:EST
DTSTART:20271107T060000
END:STANDARD
END:VTIMEZONE
BEGIN:VEVENT
DTSTART;TZID=America/New_York:20260211T190000
DTEND;TZID=America/New_York:20260211T200000
DTSTAMP:20260423T141639
CREATED:20260131T184108Z
LAST-MODIFIED:20260131T184109Z
UID:7374-1770836400-1770840000@allnationschurchepc.org
SUMMARY:Bible Study
DESCRIPTION:Join Us for Our Hour of Power
URL:https://allnationschurchepc.org/event/bible-study-3/
LOCATION:Wednesday Night Bible Study\, 3000 4th Avenue S.\, St. Petersburgf\, Florida\, 33712
END:VEVENT
BEGIN:VEVENT
DTSTART;TZID=America/New_York:20260208T110000
DTEND;TZID=America/New_York:20260208T140000
DTSTAMP:20260423T141639
CREATED:20260131T182145Z
LAST-MODIFIED:20260131T183533Z
UID:7362-1770548400-1770559200@allnationschurchepc.org
SUMMARY:Men's Sunday Service
DESCRIPTION:Join Us\, While Our Men Are in Charge of the Praise & Worship and Other Portions of the Service
URL:https://allnationschurchepc.org/event/mens-sunday-service/
LOCATION:Mens Sunday Service\, 3000 4th Avenue S.\, Safety Harbor\, Florida\, 33712
END:VEVENT
BEGIN:VEVENT
DTSTART;TZID=America/New_York:20260204T190000
DTEND;TZID=America/New_York:20260204T200000
DTSTAMP:20260423T141639
CREATED:20260131T181901Z
LAST-MODIFIED:20260131T183804Z
UID:7360-1770231600-1770235200@allnationschurchepc.org
SUMMARY:Business Meeting
DESCRIPTION:All Members Are Invited to Join our Annual Business Meeting
URL:https://allnationschurchepc.org/event/business-meeting/
LOCATION:Annual Business Meeting\, 3000 4th Avenue S.\, St. Petersburg\, Florida\, 33712
END:VEVENT
BEGIN:VEVENT
DTSTART;TZID=America/New_York:20260201T110000
DTEND;TZID=America/New_York:20260201T140000
DTSTAMP:20260423T141639
CREATED:20260126T141724Z
LAST-MODIFIED:20260126T145914Z
UID:7279-1769943600-1769954400@allnationschurchepc.org
SUMMARY:Sunday Service
DESCRIPTION:First Sunday Service – Communion
URL:https://allnationschurchepc.org/event/sunday-service/
LOCATION:Communion\, 3000 4th Avenue S.\, St. Petersburg\, 33712
END:VEVENT
BEGIN:VEVENT
DTSTART;TZID=America/New_York:20260128T190000
DTEND;TZID=America/New_York:20260128T200000
DTSTAMP:20260423T141639
CREATED:20260126T135302Z
LAST-MODIFIED:20260126T142839Z
UID:7268-1769626800-1769630400@allnationschurchepc.org
SUMMARY:Bible Study
DESCRIPTION:Join Us for our Hour of Power
URL:https://allnationschurchepc.org/event/bible-study/
LOCATION:Bible Study\, 3000 4th Ave S\, Saint Petersburg\, FL\, St. Petersburg\, FL\, 33712\, United States
END:VEVENT
END:VCALENDAR